BEGIN:VCALENDAR
VERSION:2.0
PRODID:-//Upper Humber Rod and Gun Association - ECPv6.9.1//NONSGML v1.0//EN
CALSCALE:GREGORIAN
METHOD:PUBLISH
X-WR-CALNAME:Upper Humber Rod and Gun Association
X-ORIGINAL-URL:https://upperhumberrodandgun.com
X-WR-CALDESC:Events for Upper Humber Rod and Gun Association
REFRESH-INTERVAL;VALUE=DURATION:PT1H
X-Robots-Tag:noindex
X-PUBLISHED-TTL:PT1H
BEGIN:VTIMEZONE
TZID:UTC
BEGIN:STANDARD
TZOFFSETFROM:+0000
TZOFFSETTO:+0000
TZNAME:UTC
DTSTART:20250101T000000
END:STANDARD
END:VTIMEZONE
BEGIN:VEVENT
DTSTART;TZID=UTC:20251015T070000
DTEND;TZID=UTC:20251016T170000
DTSTAMP:20260421T081849
CREATED:20250828T155342Z
LAST-MODIFIED:20250828T155342Z
UID:866-1760511600-1760634000@upperhumberrodandgun.com
SUMMARY:RENTAL BOOKING
DESCRIPTION:The facilities and grounds will not be available for our members and guests during this rental period on OCTOBER 15 and 16 from 7AM until 5pm each day. \nFor information on rentals and bookings contact us at mail4upper@gmail.com or by calling 709 686 5228 \n  \n  \nF/o
URL:https://upperhumberrodandgun.com/index.php/event/rental-booking-39/
END:VEVENT
END:VCALENDAR